BEGIN:VCALENDAR
VERSION:2.0
PRODID:-// - ECPv6.15.20//NONSGML v1.0//EN
CALSCALE:GREGORIAN
METHOD:PUBLISH
X-ORIGINAL-URL:https://westchesterhillscondo.com
X-WR-CALDESC:Events for 
REFRESH-INTERVAL;VALUE=DURATION:PT1H
X-Robots-Tag:noindex
X-PUBLISHED-TTL:PT1H
BEGIN:VTIMEZONE
TZID:America/New_York
BEGIN:DAYLIGHT
TZOFFSETFROM:-0500
TZOFFSETTO:-0400
TZNAME:EDT
DTSTART:20240310T070000
END:DAYLIGHT
BEGIN:STANDARD
TZOFFSETFROM:-0400
TZOFFSETTO:-0500
TZNAME:EST
DTSTART:20241103T060000
END:STANDARD
BEGIN:DAYLIGHT
TZOFFSETFROM:-0500
TZOFFSETTO:-0400
TZNAME:EDT
DTSTART:20250309T070000
END:DAYLIGHT
BEGIN:STANDARD
TZOFFSETFROM:-0400
TZOFFSETTO:-0500
TZNAME:EST
DTSTART:20251102T060000
END:STANDARD
BEGIN:DAYLIGHT
TZOFFSETFROM:-0500
TZOFFSETTO:-0400
TZNAME:EDT
DTSTART:20260308T070000
END:DAYLIGHT
BEGIN:STANDARD
TZOFFSETFROM:-0400
TZOFFSETTO:-0500
TZNAME:EST
DTSTART:20261101T060000
END:STANDARD
END:VTIMEZONE
BEGIN:VEVENT
DTSTART;TZID=America/New_York:20250306T183000
DTEND;TZID=America/New_York:20250306T200000
DTSTAMP:20260424T041746
CREATED:20250304T181937Z
LAST-MODIFIED:20250304T181937Z
UID:2821-1741285800-1741291200@westchesterhillscondo.com
SUMMARY:BOM Meeting
DESCRIPTION:
URL:https://westchesterhillscondo.com/event/bom-meeting/
END:VEVENT
BEGIN:VEVENT
DTSTART;TZID=America/New_York:20250317T080000
DTEND;TZID=America/New_York:20250317T160000
DTSTAMP:20260424T041746
CREATED:20250304T182042Z
LAST-MODIFIED:20250304T182042Z
UID:2823-1742198400-1742227200@westchesterhillscondo.com
SUMMARY:Landscapers to begin Spring cleanup at WHC
DESCRIPTION:
URL:https://westchesterhillscondo.com/event/landscapers-to-begin-spring-cleanup-at-whc/
END:VEVENT
BEGIN:VEVENT
DTSTART;TZID=America/New_York:20250320T183000
DTEND;TZID=America/New_York:20250320T203000
DTSTAMP:20260424T041746
CREATED:20250317T143536Z
LAST-MODIFIED:20250317T143536Z
UID:2827-1742495400-1742502600@westchesterhillscondo.com
SUMMARY:WHC Board of Managers Meeting
DESCRIPTION:
URL:https://westchesterhillscondo.com/event/whc-board-of-managers-meeting-2/
END:VEVENT
BEGIN:VEVENT
DTSTART;VALUE=DATE:20250330
DTEND;VALUE=DATE:20250331
DTSTAMP:20260424T041746
CREATED:20250220T144952Z
LAST-MODIFIED:20250220T144952Z
UID:2815-1743292800-1743379199@westchesterhillscondo.com
SUMMARY:Rec Hall Function
DESCRIPTION:
URL:https://westchesterhillscondo.com/event/rec-hall-function-14/
END:VEVENT
BEGIN:VEVENT
DTSTART;TZID=America/New_York:20250331T070000
DTEND;TZID=America/New_York:20250331T230000
DTSTAMP:20260424T041746
CREATED:20250220T145039Z
LAST-MODIFIED:20250220T145039Z
UID:2817-1743404400-1743462000@westchesterhillscondo.com
SUMMARY:Rec Hall Function
DESCRIPTION:
URL:https://westchesterhillscondo.com/event/rec-hall-function-15/
END:VEVENT
END:VCALENDAR