BEGIN:VCALENDAR
VERSION:2.0
PRODID:-// - ECPv6.15.20//NONSGML v1.0//EN
CALSCALE:GREGORIAN
METHOD:PUBLISH
X-ORIGINAL-URL:https://westchesterhillscondo.com
X-WR-CALDESC:Events for 
REFRESH-INTERVAL;VALUE=DURATION:PT1H
X-Robots-Tag:noindex
X-PUBLISHED-TTL:PT1H
BEGIN:VTIMEZONE
TZID:America/New_York
BEGIN:DAYLIGHT
TZOFFSETFROM:-0500
TZOFFSETTO:-0400
TZNAME:EDT
DTSTART:20230312T070000
END:DAYLIGHT
BEGIN:STANDARD
TZOFFSETFROM:-0400
TZOFFSETTO:-0500
TZNAME:EST
DTSTART:20231105T060000
END:STANDARD
BEGIN:DAYLIGHT
TZOFFSETFROM:-0500
TZOFFSETTO:-0400
TZNAME:EDT
DTSTART:20240310T070000
END:DAYLIGHT
BEGIN:STANDARD
TZOFFSETFROM:-0400
TZOFFSETTO:-0500
TZNAME:EST
DTSTART:20241103T060000
END:STANDARD
BEGIN:DAYLIGHT
TZOFFSETFROM:-0500
TZOFFSETTO:-0400
TZNAME:EDT
DTSTART:20250309T070000
END:DAYLIGHT
BEGIN:STANDARD
TZOFFSETFROM:-0400
TZOFFSETTO:-0500
TZNAME:EST
DTSTART:20251102T060000
END:STANDARD
END:VTIMEZONE
BEGIN:VEVENT
DTSTART;VALUE=DATE:20241203
DTEND;VALUE=DATE:20241204
DTSTAMP:20260424T084740
CREATED:20241127T160045Z
LAST-MODIFIED:20241127T160045Z
UID:2754-1733184000-1733270399@westchesterhillscondo.com
SUMMARY:Property Water ShutDown
DESCRIPTION:
URL:https://westchesterhillscondo.com/event/property-water-shutdown/
END:VEVENT
BEGIN:VEVENT
DTSTART;VALUE=DATE:20241204
DTEND;VALUE=DATE:20241205
DTSTAMP:20260424T084740
CREATED:20241127T160126Z
LAST-MODIFIED:20241127T160126Z
UID:2756-1733270400-1733356799@westchesterhillscondo.com
SUMMARY:Bldg 9 Gutter Guard Installation
DESCRIPTION:
URL:https://westchesterhillscondo.com/event/bldg-9-gutter-guard-installation/
END:VEVENT
BEGIN:VEVENT
DTSTART;TZID=America/New_York:20241205T183000
DTEND;TZID=America/New_York:20241205T210000
DTSTAMP:20260424T084740
CREATED:20241127T160225Z
LAST-MODIFIED:20241127T160225Z
UID:2758-1733423400-1733432400@westchesterhillscondo.com
SUMMARY:Board of Managers Meeting
DESCRIPTION:
URL:https://westchesterhillscondo.com/event/board-of-managers-meeting-8/
END:VEVENT
BEGIN:VEVENT
DTSTART;TZID=America/New_York:20241206T180000
DTEND;TZID=America/New_York:20241206T220000
DTSTAMP:20260424T084740
CREATED:20241204T134751Z
LAST-MODIFIED:20241204T134751Z
UID:2762-1733508000-1733522400@westchesterhillscondo.com
SUMMARY:Event in Rec Hall
DESCRIPTION:
URL:https://westchesterhillscondo.com/event/event-in-rec-hall-2/
END:VEVENT
BEGIN:VEVENT
DTSTART;VALUE=DATE:20241207
DTEND;VALUE=DATE:20241208
DTSTAMP:20260424T084740
CREATED:20241127T165258Z
LAST-MODIFIED:20241127T165258Z
UID:2760-1733529600-1733615999@westchesterhillscondo.com
SUMMARY:EVENT IN REC HALL
DESCRIPTION:
URL:https://westchesterhillscondo.com/event/event-in-rec-hall/
END:VEVENT
BEGIN:VEVENT
DTSTART;TZID=America/New_York:20241208T080000
DTEND;TZID=America/New_York:20241208T220000
DTSTAMP:20260424T084740
CREATED:20241204T134916Z
LAST-MODIFIED:20241204T134916Z
UID:2764-1733644800-1733695200@westchesterhillscondo.com
SUMMARY:Event in Rec Hall
DESCRIPTION:
URL:https://westchesterhillscondo.com/event/event-in-rec-hall-3/
END:VEVENT
BEGIN:VEVENT
DTSTART;TZID=America/New_York:20241213T170000
DTEND;TZID=America/New_York:20241213T223000
DTSTAMP:20260424T084740
CREATED:20241210T141654Z
LAST-MODIFIED:20241210T141654Z
UID:2766-1734109200-1734129000@westchesterhillscondo.com
SUMMARY:EVENT IN REC HALL
DESCRIPTION:
URL:https://westchesterhillscondo.com/event/event-in-rec-hall-4/
END:VEVENT
BEGIN:VEVENT
DTSTART;TZID=America/New_York:20241214T080000
DTEND;TZID=America/New_York:20241214T220000
DTSTAMP:20260424T084740
CREATED:20241127T155852Z
LAST-MODIFIED:20241127T155852Z
UID:2750-1734163200-1734213600@westchesterhillscondo.com
SUMMARY:PARTY IN REC HALL
DESCRIPTION:
URL:https://westchesterhillscondo.com/event/party-in-rec-hall/
END:VEVENT
BEGIN:VEVENT
DTSTART;TZID=America/New_York:20241215T080000
DTEND;TZID=America/New_York:20241215T220000
DTSTAMP:20260424T084740
CREATED:20241127T155956Z
LAST-MODIFIED:20241127T155956Z
UID:2752-1734249600-1734300000@westchesterhillscondo.com
SUMMARY:PARTY IN REC HALL
DESCRIPTION:
URL:https://westchesterhillscondo.com/event/party-in-rec-hall-2/
END:VEVENT
BEGIN:VEVENT
DTSTART;TZID=America/New_York:20241220T170000
DTEND;TZID=America/New_York:20241220T223000
DTSTAMP:20260424T084740
CREATED:20241210T141737Z
LAST-MODIFIED:20241210T141737Z
UID:2768-1734714000-1734733800@westchesterhillscondo.com
SUMMARY:EVENT IN REC HALL
DESCRIPTION:
URL:https://westchesterhillscondo.com/event/event-in-rec-hall-5/
END:VEVENT
END:VCALENDAR