BEGIN:VCALENDAR
VERSION:2.0
PRODID:-// - ECPv6.15.20//NONSGML v1.0//EN
CALSCALE:GREGORIAN
METHOD:PUBLISH
X-ORIGINAL-URL:https://westchesterhillscondo.com
X-WR-CALDESC:Events for 
REFRESH-INTERVAL;VALUE=DURATION:PT1H
X-Robots-Tag:noindex
X-PUBLISHED-TTL:PT1H
BEGIN:VTIMEZONE
TZID:America/New_York
BEGIN:DAYLIGHT
TZOFFSETFROM:-0500
TZOFFSETTO:-0400
TZNAME:EDT
DTSTART:20230312T070000
END:DAYLIGHT
BEGIN:STANDARD
TZOFFSETFROM:-0400
TZOFFSETTO:-0500
TZNAME:EST
DTSTART:20231105T060000
END:STANDARD
BEGIN:DAYLIGHT
TZOFFSETFROM:-0500
TZOFFSETTO:-0400
TZNAME:EDT
DTSTART:20240310T070000
END:DAYLIGHT
BEGIN:STANDARD
TZOFFSETFROM:-0400
TZOFFSETTO:-0500
TZNAME:EST
DTSTART:20241103T060000
END:STANDARD
BEGIN:DAYLIGHT
TZOFFSETFROM:-0500
TZOFFSETTO:-0400
TZNAME:EDT
DTSTART:20250309T070000
END:DAYLIGHT
BEGIN:STANDARD
TZOFFSETFROM:-0400
TZOFFSETTO:-0500
TZNAME:EST
DTSTART:20251102T060000
END:STANDARD
END:VTIMEZONE
BEGIN:VEVENT
DTSTART;TZID=America/New_York:20241003T183000
DTEND;TZID=America/New_York:20241003T203000
DTSTAMP:20260424T114859
CREATED:20240930T135529Z
LAST-MODIFIED:20240930T135529Z
UID:2728-1727980200-1727987400@westchesterhillscondo.com
SUMMARY:WHC Board of Managers Meeting
DESCRIPTION:Your Board of Managers will meet this Thursday\, August 22nd\, starting at 6:30 pm – please let us know if you plan on attending so we make appropriate arrangements. \nThank you\, \n  \nPlease direct your questions to the condo office answering service (914) 592-9229. \nor via email to: whcboard@westchesterhillscondo.com
URL:https://westchesterhillscondo.com/event/whc-board-of-managers-meeting/
END:VEVENT
BEGIN:VEVENT
DTSTART;TZID=America/New_York:20241014T080000
DTEND;TZID=America/New_York:20241014T170000
DTSTAMP:20260424T114859
CREATED:20241014T142734Z
LAST-MODIFIED:20241014T143057Z
UID:2730-1728892800-1728925200@westchesterhillscondo.com
SUMMARY:Board of Managers Meeting
DESCRIPTION:Your WHC Board of Managers will be meeting this Thursday\, October 17th starting at 6:30 pm in the Rec Hall. Please let us know if you are attending. Thank you. \n 
URL:https://westchesterhillscondo.com/event/board-of-managers-meeting-6/
END:VEVENT
END:VCALENDAR