BEGIN:VCALENDAR
VERSION:2.0
PRODID:-// - ECPv6.15.20//NONSGML v1.0//EN
CALSCALE:GREGORIAN
METHOD:PUBLISH
X-ORIGINAL-URL:https://westchesterhillscondo.com
X-WR-CALDESC:Events for 
REFRESH-INTERVAL;VALUE=DURATION:PT1H
X-Robots-Tag:noindex
X-PUBLISHED-TTL:PT1H
BEGIN:VTIMEZONE
TZID:America/New_York
BEGIN:DAYLIGHT
TZOFFSETFROM:-0500
TZOFFSETTO:-0400
TZNAME:EDT
DTSTART:20230312T070000
END:DAYLIGHT
BEGIN:STANDARD
TZOFFSETFROM:-0400
TZOFFSETTO:-0500
TZNAME:EST
DTSTART:20231105T060000
END:STANDARD
BEGIN:DAYLIGHT
TZOFFSETFROM:-0500
TZOFFSETTO:-0400
TZNAME:EDT
DTSTART:20240310T070000
END:DAYLIGHT
BEGIN:STANDARD
TZOFFSETFROM:-0400
TZOFFSETTO:-0500
TZNAME:EST
DTSTART:20241103T060000
END:STANDARD
BEGIN:DAYLIGHT
TZOFFSETFROM:-0500
TZOFFSETTO:-0400
TZNAME:EDT
DTSTART:20250309T070000
END:DAYLIGHT
BEGIN:STANDARD
TZOFFSETFROM:-0400
TZOFFSETTO:-0500
TZNAME:EST
DTSTART:20251102T060000
END:STANDARD
END:VTIMEZONE
BEGIN:VEVENT
DTSTART;TZID=America/New_York:20240525T130000
DTEND;TZID=America/New_York:20240525T190000
DTSTAMP:20260424T122013
CREATED:20240515T164743Z
LAST-MODIFIED:20240515T164743Z
UID:2596-1716642000-1716663600@westchesterhillscondo.com
SUMMARY:Pool Opening on weekends at WHC
DESCRIPTION:
URL:https://westchesterhillscondo.com/event/pool-opening-on-weekends-at-whc/
END:VEVENT
BEGIN:VEVENT
DTSTART;TZID=America/New_York:20240516T183000
DTEND;TZID=America/New_York:20240516T200000
DTSTAMP:20260424T122013
CREATED:20240510T153209Z
LAST-MODIFIED:20240510T153318Z
UID:2591-1715884200-1715889600@westchesterhillscondo.com
SUMMARY:Board of Managers Meeting 6:30 pm
DESCRIPTION:
URL:https://westchesterhillscondo.com/event/board-of-managers-meeting-630-pm/
END:VEVENT
BEGIN:VEVENT
DTSTART;VALUE=DATE:20240511
DTEND;VALUE=DATE:20240512
DTSTAMP:20260424T122013
CREATED:20240406T125900Z
LAST-MODIFIED:20240410T162648Z
UID:2559-1715385600-1715471999@westchesterhillscondo.com
SUMMARY:Rec Hall Rental
DESCRIPTION:
URL:https://westchesterhillscondo.com/event/rec-hall-rental/
END:VEVENT
BEGIN:VEVENT
DTSTART;TZID=America/New_York:20240502T183000
DTEND;TZID=America/New_York:20240502T203000
DTSTAMP:20260424T122013
CREATED:20240429T150425Z
LAST-MODIFIED:20240429T150425Z
UID:2587-1714674600-1714681800@westchesterhillscondo.com
SUMMARY:Board of Managers Meeting
DESCRIPTION:
URL:https://westchesterhillscondo.com/event/board-of-managers-meeting/
END:VEVENT
BEGIN:VEVENT
DTSTART;TZID=America/New_York:20240418T080000
DTEND;TZID=America/New_York:20240418T200000
DTSTAMP:20260424T122013
CREATED:20240410T163042Z
LAST-MODIFIED:20240410T163241Z
UID:2576-1713427200-1713470400@westchesterhillscondo.com
SUMMARY:Board of Managers meeting at 6:30 pm
DESCRIPTION:
URL:https://westchesterhillscondo.com/event/board-of-managers-meeting-at-630-pm/
END:VEVENT
END:VCALENDAR