BEGIN:VCALENDAR
VERSION:2.0
PRODID:-// - ECPv6.15.20//NONSGML v1.0//EN
CALSCALE:GREGORIAN
METHOD:PUBLISH
X-ORIGINAL-URL:https://westchesterhillscondo.com
X-WR-CALDESC:Events for 
REFRESH-INTERVAL;VALUE=DURATION:PT1H
X-Robots-Tag:noindex
X-PUBLISHED-TTL:PT1H
BEGIN:VTIMEZONE
TZID:America/New_York
BEGIN:DAYLIGHT
TZOFFSETFROM:-0500
TZOFFSETTO:-0400
TZNAME:EDT
DTSTART:20230312T070000
END:DAYLIGHT
BEGIN:STANDARD
TZOFFSETFROM:-0400
TZOFFSETTO:-0500
TZNAME:EST
DTSTART:20231105T060000
END:STANDARD
BEGIN:DAYLIGHT
TZOFFSETFROM:-0500
TZOFFSETTO:-0400
TZNAME:EDT
DTSTART:20240310T070000
END:DAYLIGHT
BEGIN:STANDARD
TZOFFSETFROM:-0400
TZOFFSETTO:-0500
TZNAME:EST
DTSTART:20241103T060000
END:STANDARD
BEGIN:DAYLIGHT
TZOFFSETFROM:-0500
TZOFFSETTO:-0400
TZNAME:EDT
DTSTART:20250309T070000
END:DAYLIGHT
BEGIN:STANDARD
TZOFFSETFROM:-0400
TZOFFSETTO:-0500
TZNAME:EST
DTSTART:20251102T060000
END:STANDARD
BEGIN:DAYLIGHT
TZOFFSETFROM:-0500
TZOFFSETTO:-0400
TZNAME:EDT
DTSTART:20260308T070000
END:DAYLIGHT
BEGIN:STANDARD
TZOFFSETFROM:-0400
TZOFFSETTO:-0500
TZNAME:EST
DTSTART:20261101T060000
END:STANDARD
END:VTIMEZONE
BEGIN:VEVENT
DTSTART;TZID=America/New_York:20250118T080000
DTEND;TZID=America/New_York:20250118T140000
DTSTAMP:20260423T170317
CREATED:20250113T150518Z
LAST-MODIFIED:20250113T150518Z
UID:2788-1737187200-1737208800@westchesterhillscondo.com
SUMMARY:Rec Hall Function
DESCRIPTION:
URL:https://westchesterhillscondo.com/event/rec-hall-function-6/
END:VEVENT
BEGIN:VEVENT
DTSTART;TZID=America/New_York:20250117T180000
DTEND;TZID=America/New_York:20250117T220000
DTSTAMP:20260423T170317
CREATED:20250115T142759Z
LAST-MODIFIED:20250115T142759Z
UID:2793-1737136800-1737151200@westchesterhillscondo.com
SUMMARY:Rec Hall Function
DESCRIPTION:
URL:https://westchesterhillscondo.com/event/rec-hall-function-7/
END:VEVENT
BEGIN:VEVENT
DTSTART;TZID=America/New_York:20250115T190000
DTEND;TZID=America/New_York:20250115T210000
DTSTAMP:20260423T170317
CREATED:20241213T161148Z
LAST-MODIFIED:20241213T161148Z
UID:2770-1736967600-1736974800@westchesterhillscondo.com
SUMMARY:WHC ANNUAL MEETING
DESCRIPTION:
URL:https://westchesterhillscondo.com/event/whc-annual-meeting/
END:VEVENT
BEGIN:VEVENT
DTSTART;TZID=America/New_York:20250111T083000
DTEND;TZID=America/New_York:20250111T220000
DTSTAMP:20260423T170317
CREATED:20250108T162347Z
LAST-MODIFIED:20250108T162347Z
UID:2782-1736584200-1736632800@westchesterhillscondo.com
SUMMARY:Rec Hall function
DESCRIPTION:
URL:https://westchesterhillscondo.com/event/rec-hall-function-3/
END:VEVENT
BEGIN:VEVENT
DTSTART;TZID=America/New_York:20250110T180000
DTEND;TZID=America/New_York:20250110T220000
DTSTAMP:20260423T170317
CREATED:20250108T162253Z
LAST-MODIFIED:20250108T162253Z
UID:2780-1736532000-1736546400@westchesterhillscondo.com
SUMMARY:Rec Hall function
DESCRIPTION:
URL:https://westchesterhillscondo.com/event/rec-hall-function-2/
END:VEVENT
BEGIN:VEVENT
DTSTART;TZID=America/New_York:20241220T170000
DTEND;TZID=America/New_York:20241220T223000
DTSTAMP:20260423T170317
CREATED:20241210T141737Z
LAST-MODIFIED:20241210T141737Z
UID:2768-1734714000-1734733800@westchesterhillscondo.com
SUMMARY:EVENT IN REC HALL
DESCRIPTION:
URL:https://westchesterhillscondo.com/event/event-in-rec-hall-5/
END:VEVENT
BEGIN:VEVENT
DTSTART;TZID=America/New_York:20241215T080000
DTEND;TZID=America/New_York:20241215T220000
DTSTAMP:20260423T170317
CREATED:20241127T155956Z
LAST-MODIFIED:20241127T155956Z
UID:2752-1734249600-1734300000@westchesterhillscondo.com
SUMMARY:PARTY IN REC HALL
DESCRIPTION:
URL:https://westchesterhillscondo.com/event/party-in-rec-hall-2/
END:VEVENT
BEGIN:VEVENT
DTSTART;TZID=America/New_York:20241214T080000
DTEND;TZID=America/New_York:20241214T220000
DTSTAMP:20260423T170317
CREATED:20241127T155852Z
LAST-MODIFIED:20241127T155852Z
UID:2750-1734163200-1734213600@westchesterhillscondo.com
SUMMARY:PARTY IN REC HALL
DESCRIPTION:
URL:https://westchesterhillscondo.com/event/party-in-rec-hall/
END:VEVENT
BEGIN:VEVENT
DTSTART;TZID=America/New_York:20241213T170000
DTEND;TZID=America/New_York:20241213T223000
DTSTAMP:20260423T170317
CREATED:20241210T141654Z
LAST-MODIFIED:20241210T141654Z
UID:2766-1734109200-1734129000@westchesterhillscondo.com
SUMMARY:EVENT IN REC HALL
DESCRIPTION:
URL:https://westchesterhillscondo.com/event/event-in-rec-hall-4/
END:VEVENT
BEGIN:VEVENT
DTSTART;TZID=America/New_York:20241208T080000
DTEND;TZID=America/New_York:20241208T220000
DTSTAMP:20260423T170317
CREATED:20241204T134916Z
LAST-MODIFIED:20241204T134916Z
UID:2764-1733644800-1733695200@westchesterhillscondo.com
SUMMARY:Event in Rec Hall
DESCRIPTION:
URL:https://westchesterhillscondo.com/event/event-in-rec-hall-3/
END:VEVENT
BEGIN:VEVENT
DTSTART;VALUE=DATE:20241207
DTEND;VALUE=DATE:20241208
DTSTAMP:20260423T170317
CREATED:20241127T165258Z
LAST-MODIFIED:20241127T165258Z
UID:2760-1733529600-1733615999@westchesterhillscondo.com
SUMMARY:EVENT IN REC HALL
DESCRIPTION:
URL:https://westchesterhillscondo.com/event/event-in-rec-hall/
END:VEVENT
BEGIN:VEVENT
DTSTART;TZID=America/New_York:20241206T180000
DTEND;TZID=America/New_York:20241206T220000
DTSTAMP:20260423T170317
CREATED:20241204T134751Z
LAST-MODIFIED:20241204T134751Z
UID:2762-1733508000-1733522400@westchesterhillscondo.com
SUMMARY:Event in Rec Hall
DESCRIPTION:
URL:https://westchesterhillscondo.com/event/event-in-rec-hall-2/
END:VEVENT
BEGIN:VEVENT
DTSTART;TZID=America/New_York:20241205T183000
DTEND;TZID=America/New_York:20241205T210000
DTSTAMP:20260423T170317
CREATED:20241127T160225Z
LAST-MODIFIED:20241127T160225Z
UID:2758-1733423400-1733432400@westchesterhillscondo.com
SUMMARY:Board of Managers Meeting
DESCRIPTION:
URL:https://westchesterhillscondo.com/event/board-of-managers-meeting-8/
END:VEVENT
BEGIN:VEVENT
DTSTART;VALUE=DATE:20241204
DTEND;VALUE=DATE:20241205
DTSTAMP:20260423T170317
CREATED:20241127T160126Z
LAST-MODIFIED:20241127T160126Z
UID:2756-1733270400-1733356799@westchesterhillscondo.com
SUMMARY:Bldg 9 Gutter Guard Installation
DESCRIPTION:
URL:https://westchesterhillscondo.com/event/bldg-9-gutter-guard-installation/
END:VEVENT
BEGIN:VEVENT
DTSTART;VALUE=DATE:20241203
DTEND;VALUE=DATE:20241204
DTSTAMP:20260423T170317
CREATED:20241127T160045Z
LAST-MODIFIED:20241127T160045Z
UID:2754-1733184000-1733270399@westchesterhillscondo.com
SUMMARY:Property Water ShutDown
DESCRIPTION:
URL:https://westchesterhillscondo.com/event/property-water-shutdown/
END:VEVENT
BEGIN:VEVENT
DTSTART;TZID=America/New_York:20241123T100000
DTEND;TZID=America/New_York:20241123T180000
DTSTAMP:20260423T170317
CREATED:20241029T131509Z
LAST-MODIFIED:20241029T131509Z
UID:2741-1732356000-1732384800@westchesterhillscondo.com
SUMMARY:Rec Hall Party
DESCRIPTION:
URL:https://westchesterhillscondo.com/event/rec-hall-party-3/
END:VEVENT
BEGIN:VEVENT
DTSTART;TZID=America/New_York:20241117T100000
DTEND;TZID=America/New_York:20241117T180000
DTSTAMP:20260423T170317
CREATED:20241029T131437Z
LAST-MODIFIED:20241029T131437Z
UID:2739-1731837600-1731866400@westchesterhillscondo.com
SUMMARY:Rec Hall Party
DESCRIPTION:
URL:https://westchesterhillscondo.com/event/rec-hall-party-2/
END:VEVENT
BEGIN:VEVENT
DTSTART;TZID=America/New_York:20241110T100000
DTEND;TZID=America/New_York:20241110T180000
DTSTAMP:20260423T170317
CREATED:20241029T131354Z
LAST-MODIFIED:20241029T131354Z
UID:2737-1731232800-1731261600@westchesterhillscondo.com
SUMMARY:Rec Hall Party
DESCRIPTION:
URL:https://westchesterhillscondo.com/event/rec-hall-party/
END:VEVENT
BEGIN:VEVENT
DTSTART;TZID=America/New_York:20241107T183000
DTEND;TZID=America/New_York:20241107T210000
DTSTAMP:20260423T170317
CREATED:20241029T131738Z
LAST-MODIFIED:20241029T131738Z
UID:2745-1731004200-1731013200@westchesterhillscondo.com
SUMMARY:Board of Managers Meeting
DESCRIPTION:
URL:https://westchesterhillscondo.com/event/board-of-managers-meeting-7/
END:VEVENT
BEGIN:VEVENT
DTSTART;VALUE=DATE:20241105
DTEND;VALUE=DATE:20241106
DTSTAMP:20260423T170317
CREATED:20241025T132107Z
LAST-MODIFIED:20241030T175515Z
UID:2734-1730764800-1730851199@westchesterhillscondo.com
SUMMARY:VOTING AT WHC
DESCRIPTION:
URL:https://westchesterhillscondo.com/event/voting-at-whc/
END:VEVENT
BEGIN:VEVENT
DTSTART;TZID=America/New_York:20241102T100000
DTEND;TZID=America/New_York:20241102T220000
DTSTAMP:20260423T170317
CREATED:20241029T140418Z
LAST-MODIFIED:20241029T140418Z
UID:2747-1730541600-1730584800@westchesterhillscondo.com
SUMMARY:Rec Hall Party
DESCRIPTION:
URL:https://westchesterhillscondo.com/event/rec-hall-party-5/
END:VEVENT
BEGIN:VEVENT
DTSTART;TZID=America/New_York:20241014T080000
DTEND;TZID=America/New_York:20241014T170000
DTSTAMP:20260423T170317
CREATED:20241014T142734Z
LAST-MODIFIED:20241014T143057Z
UID:2730-1728892800-1728925200@westchesterhillscondo.com
SUMMARY:Board of Managers Meeting
DESCRIPTION:Your WHC Board of Managers will be meeting this Thursday\, October 17th starting at 6:30 pm in the Rec Hall. Please let us know if you are attending. Thank you. \n 
URL:https://westchesterhillscondo.com/event/board-of-managers-meeting-6/
END:VEVENT
BEGIN:VEVENT
DTSTART;TZID=America/New_York:20241003T183000
DTEND;TZID=America/New_York:20241003T203000
DTSTAMP:20260423T170317
CREATED:20240930T135529Z
LAST-MODIFIED:20240930T135529Z
UID:2728-1727980200-1727987400@westchesterhillscondo.com
SUMMARY:WHC Board of Managers Meeting
DESCRIPTION:Your Board of Managers will meet this Thursday\, August 22nd\, starting at 6:30 pm – please let us know if you plan on attending so we make appropriate arrangements. \nThank you\, \n  \nPlease direct your questions to the condo office answering service (914) 592-9229. \nor via email to: whcboard@westchesterhillscondo.com
URL:https://westchesterhillscondo.com/event/whc-board-of-managers-meeting/
END:VEVENT
BEGIN:VEVENT
DTSTART;TZID=America/New_York:20240907T080000
DTEND;TZID=America/New_York:20240907T130000
DTSTAMP:20260423T170317
CREATED:20240905T151054Z
LAST-MODIFIED:20240905T151054Z
UID:2725-1725696000-1725714000@westchesterhillscondo.com
SUMMARY:Rec Hall Function
DESCRIPTION:
URL:https://westchesterhillscondo.com/event/rec-hall-function/
END:VEVENT
BEGIN:VEVENT
DTSTART;TZID=America/New_York:20240905T183000
DTEND;TZID=America/New_York:20240905T203000
DTSTAMP:20260423T170317
CREATED:20240903T153243Z
LAST-MODIFIED:20240903T153243Z
UID:2722-1725561000-1725568200@westchesterhillscondo.com
SUMMARY:Board of Managers Meeting
DESCRIPTION:Your WHC Board of  Managers will meet this Thursday\, September 5th \,2024 at 6:30 pm in the Rec Hall.
URL:https://westchesterhillscondo.com/event/board-of-managers-meeting-5/
END:VEVENT
BEGIN:VEVENT
DTSTART;TZID=America/New_York:20240822T183000
DTEND;TZID=America/New_York:20240822T210000
DTSTAMP:20260423T170317
CREATED:20240818T222151Z
LAST-MODIFIED:20240818T222151Z
UID:2719-1724351400-1724360400@westchesterhillscondo.com
SUMMARY:Board of Managers Meeting
DESCRIPTION:August 19\, 2024 \nTO ALL WHC RESIDENTS\, \nYour Board of Managers will meet this Thursday\, August 22nd\, starting at 6:30 pm – please let us know if you plan on attending so we make appropriate arrangements. \nThank you\, \n  \nPlease direct your questions to the condo office answering service (914) 592-9229. \nor via email to: whcboard@westchesterhillscondo.com \nThank you\, \nThe Board of Managers
URL:https://westchesterhillscondo.com/event/board-of-managers-meeting-4/
END:VEVENT
BEGIN:VEVENT
DTSTART;TZID=America/New_York:20240808T183000
DTEND;TZID=America/New_York:20240808T210000
DTSTAMP:20260423T170317
CREATED:20240801T131326Z
LAST-MODIFIED:20240801T131326Z
UID:2703-1723141800-1723150800@westchesterhillscondo.com
SUMMARY:Board of Managers Meeting
DESCRIPTION:
URL:https://westchesterhillscondo.com/event/board-of-managers-meeting-3/
END:VEVENT
BEGIN:VEVENT
DTSTART;TZID=America/New_York:20240725T183000
DTEND;TZID=America/New_York:20240725T210000
DTSTAMP:20260423T170317
CREATED:20240723T124709Z
LAST-MODIFIED:20240723T124709Z
UID:2701-1721932200-1721941200@westchesterhillscondo.com
SUMMARY:Board of Managers Meeting
DESCRIPTION:Thursday\, July 25th starting at 6:30 pm
URL:https://westchesterhillscondo.com/event/board-of-managers-meeting-2/
END:VEVENT
BEGIN:VEVENT
DTSTART;TZID=America/New_York:20240625T060000
DTEND;TZID=America/New_York:20240625T210000
DTSTAMP:20260423T170317
CREATED:20240620T194253Z
LAST-MODIFIED:20240620T194253Z
UID:2613-1719295200-1719349200@westchesterhillscondo.com
SUMMARY:Primary Voting at WHC
DESCRIPTION:
URL:https://westchesterhillscondo.com/event/primary-voting-at-whc/
END:VEVENT
BEGIN:VEVENT
DTSTART;TZID=America/New_York:20240619T080000
DTEND;TZID=America/New_York:20240619T170000
DTSTAMP:20260423T170317
CREATED:20240619T140833Z
LAST-MODIFIED:20240619T140833Z
UID:2611-1718784000-1718816400@westchesterhillscondo.com
SUMMARY:Board of Managers Meeting June 20\, 2024 at 6:30 pm
DESCRIPTION:Board of Managers Meeting June 20\, 2024 at 6:30 pm
URL:https://westchesterhillscondo.com/event/board-of-managers-meeting-june-20-2024-at-630-pm/
END:VEVENT
END:VCALENDAR