BEGIN:VCALENDAR
VERSION:2.0
PRODID:-// - ECPv6.15.20//NONSGML v1.0//EN
CALSCALE:GREGORIAN
METHOD:PUBLISH
X-ORIGINAL-URL:https://westchesterhillscondo.com
X-WR-CALDESC:Events for 
REFRESH-INTERVAL;VALUE=DURATION:PT1H
X-Robots-Tag:noindex
X-PUBLISHED-TTL:PT1H
BEGIN:VTIMEZONE
TZID:America/New_York
BEGIN:DAYLIGHT
TZOFFSETFROM:-0500
TZOFFSETTO:-0400
TZNAME:EDT
DTSTART:20250309T070000
END:DAYLIGHT
BEGIN:STANDARD
TZOFFSETFROM:-0400
TZOFFSETTO:-0500
TZNAME:EST
DTSTART:20251102T060000
END:STANDARD
BEGIN:DAYLIGHT
TZOFFSETFROM:-0500
TZOFFSETTO:-0400
TZNAME:EDT
DTSTART:20260308T070000
END:DAYLIGHT
BEGIN:STANDARD
TZOFFSETFROM:-0400
TZOFFSETTO:-0500
TZNAME:EST
DTSTART:20261101T060000
END:STANDARD
BEGIN:DAYLIGHT
TZOFFSETFROM:-0500
TZOFFSETTO:-0400
TZNAME:EDT
DTSTART:20270314T070000
END:DAYLIGHT
BEGIN:STANDARD
TZOFFSETFROM:-0400
TZOFFSETTO:-0500
TZNAME:EST
DTSTART:20271107T060000
END:STANDARD
END:VTIMEZONE
BEGIN:VEVENT
DTSTART;VALUE=DATE:20260117
DTEND;VALUE=DATE:20260118
DTSTAMP:20260423T182019
CREATED:20251204T152916Z
LAST-MODIFIED:20251204T152916Z
UID:2911-1768608000-1768694399@westchesterhillscondo.com
SUMMARY:REC HALL FUNCTION
DESCRIPTION:
URL:https://westchesterhillscondo.com/event/rec-hall-function-37/
END:VEVENT
BEGIN:VEVENT
DTSTART;VALUE=DATE:20260124
DTEND;VALUE=DATE:20260125
DTSTAMP:20260423T182019
CREATED:20260120T162704Z
LAST-MODIFIED:20260120T162704Z
UID:2918-1769212800-1769299199@westchesterhillscondo.com
SUMMARY:REC HALL FUNCTION
DESCRIPTION:
URL:https://westchesterhillscondo.com/event/rec-hall-function-40/
END:VEVENT
BEGIN:VEVENT
DTSTART;VALUE=DATE:20260125
DTEND;VALUE=DATE:20260126
DTSTAMP:20260423T182019
CREATED:20260116T163705Z
LAST-MODIFIED:20260116T163705Z
UID:2916-1769299200-1769385599@westchesterhillscondo.com
SUMMARY:REC HALL FUNCTION
DESCRIPTION:
URL:https://westchesterhillscondo.com/event/rec-hall-function-39/
END:VEVENT
BEGIN:VEVENT
DTSTART;VALUE=DATE:20260131
DTEND;VALUE=DATE:20260201
DTSTAMP:20260423T182019
CREATED:20260120T163033Z
LAST-MODIFIED:20260120T163033Z
UID:2920-1769817600-1769903999@westchesterhillscondo.com
SUMMARY:REC HALL FUNCTION
DESCRIPTION:
URL:https://westchesterhillscondo.com/event/rec-hall-function-41/
END:VEVENT
BEGIN:VEVENT
DTSTART;VALUE=DATE:20260201
DTEND;VALUE=DATE:20260202
DTSTAMP:20260423T182019
CREATED:20260122T181225Z
LAST-MODIFIED:20260122T181225Z
UID:2922-1769904000-1769990399@westchesterhillscondo.com
SUMMARY:REC HALL FUNCTION
DESCRIPTION:
URL:https://westchesterhillscondo.com/event/rec-hall-function-42/
END:VEVENT
BEGIN:VEVENT
DTSTART;VALUE=DATE:20260208
DTEND;VALUE=DATE:20260209
DTSTAMP:20260423T182019
CREATED:20260203T141215Z
LAST-MODIFIED:20260203T141215Z
UID:2925-1770508800-1770595199@westchesterhillscondo.com
SUMMARY:REC HALL FUNCTION
DESCRIPTION:
URL:https://westchesterhillscondo.com/event/rec-hall-function-43/
END:VEVENT
BEGIN:VEVENT
DTSTART;VALUE=DATE:20260215
DTEND;VALUE=DATE:20260216
DTSTAMP:20260423T182019
CREATED:20260203T141248Z
LAST-MODIFIED:20260203T141248Z
UID:2927-1771113600-1771199999@westchesterhillscondo.com
SUMMARY:REC HALL FUNCTION
DESCRIPTION:
URL:https://westchesterhillscondo.com/event/rec-hall-function-44/
END:VEVENT
BEGIN:VEVENT
DTSTART;VALUE=DATE:20260222
DTEND;VALUE=DATE:20260223
DTSTAMP:20260423T182019
CREATED:20260203T141323Z
LAST-MODIFIED:20260203T141323Z
UID:2929-1771718400-1771804799@westchesterhillscondo.com
SUMMARY:REC HALL FUNCTION
DESCRIPTION:
URL:https://westchesterhillscondo.com/event/rec-hall-function-45/
END:VEVENT
BEGIN:VEVENT
DTSTART;VALUE=DATE:20260228
DTEND;VALUE=DATE:20260301
DTSTAMP:20260423T182019
CREATED:20251204T153017Z
LAST-MODIFIED:20251204T153017Z
UID:2913-1772236800-1772323199@westchesterhillscondo.com
SUMMARY:REC HALL FUNCTION
DESCRIPTION:
URL:https://westchesterhillscondo.com/event/rec-hall-function-38/
END:VEVENT
BEGIN:VEVENT
DTSTART;VALUE=DATE:20260307
DTEND;VALUE=DATE:20260308
DTSTAMP:20260423T182019
CREATED:20260225T164143Z
LAST-MODIFIED:20260225T164143Z
UID:2948-1772841600-1772927999@westchesterhillscondo.com
SUMMARY:REC HALL FUNCTION
DESCRIPTION:
URL:https://westchesterhillscondo.com/event/rec-hall-function-47/
END:VEVENT
BEGIN:VEVENT
DTSTART;VALUE=DATE:20260308
DTEND;VALUE=DATE:20260309
DTSTAMP:20260423T182019
CREATED:20260225T164218Z
LAST-MODIFIED:20260225T164218Z
UID:2950-1772928000-1773014399@westchesterhillscondo.com
SUMMARY:REC HALL FUNCTION
DESCRIPTION:
URL:https://westchesterhillscondo.com/event/rec-hall-function-48/
END:VEVENT
BEGIN:VEVENT
DTSTART;VALUE=DATE:20260314
DTEND;VALUE=DATE:20260315
DTSTAMP:20260423T182019
CREATED:20260304T170914Z
LAST-MODIFIED:20260304T170914Z
UID:2952-1773446400-1773532799@westchesterhillscondo.com
SUMMARY:REC HALL FUNCTION
DESCRIPTION:
URL:https://westchesterhillscondo.com/event/rec-hall-function-49/
END:VEVENT
BEGIN:VEVENT
DTSTART;VALUE=DATE:20260315
DTEND;VALUE=DATE:20260316
DTSTAMP:20260423T182019
CREATED:20260213T151054Z
LAST-MODIFIED:20260213T151054Z
UID:2940-1773532800-1773619199@westchesterhillscondo.com
SUMMARY:REC HALL FUNCTION
DESCRIPTION:
URL:https://westchesterhillscondo.com/event/rec-hall-function-46/
END:VEVENT
BEGIN:VEVENT
DTSTART;VALUE=DATE:20260623
DTEND;VALUE=DATE:20260624
DTSTAMP:20260423T182019
CREATED:20260204T161006Z
LAST-MODIFIED:20260204T161006Z
UID:2931-1782172800-1782259199@westchesterhillscondo.com
SUMMARY:VOTING IN REC HALL
DESCRIPTION:
URL:https://westchesterhillscondo.com/event/voting-in-rec-hall/
END:VEVENT
BEGIN:VEVENT
DTSTART;VALUE=DATE:20261103
DTEND;VALUE=DATE:20261104
DTSTAMP:20260423T182019
CREATED:20260204T161106Z
LAST-MODIFIED:20260204T161106Z
UID:2933-1793664000-1793750399@westchesterhillscondo.com
SUMMARY:VOTING IN REC HALL
DESCRIPTION:
URL:https://westchesterhillscondo.com/event/voting-in-rec-hall-2/
END:VEVENT
END:VCALENDAR