BEGIN:VCALENDAR
VERSION:2.0
PRODID:-// - ECPv6.15.20//NONSGML v1.0//EN
CALSCALE:GREGORIAN
METHOD:PUBLISH
X-ORIGINAL-URL:https://westchesterhillscondo.com
X-WR-CALDESC:Events for 
REFRESH-INTERVAL;VALUE=DURATION:PT1H
X-Robots-Tag:noindex
X-PUBLISHED-TTL:PT1H
BEGIN:VTIMEZONE
TZID:America/New_York
BEGIN:DAYLIGHT
TZOFFSETFROM:-0500
TZOFFSETTO:-0400
TZNAME:EDT
DTSTART:20240310T070000
END:DAYLIGHT
BEGIN:STANDARD
TZOFFSETFROM:-0400
TZOFFSETTO:-0500
TZNAME:EST
DTSTART:20241103T060000
END:STANDARD
BEGIN:DAYLIGHT
TZOFFSETFROM:-0500
TZOFFSETTO:-0400
TZNAME:EDT
DTSTART:20250309T070000
END:DAYLIGHT
BEGIN:STANDARD
TZOFFSETFROM:-0400
TZOFFSETTO:-0500
TZNAME:EST
DTSTART:20251102T060000
END:STANDARD
BEGIN:DAYLIGHT
TZOFFSETFROM:-0500
TZOFFSETTO:-0400
TZNAME:EDT
DTSTART:20260308T070000
END:DAYLIGHT
BEGIN:STANDARD
TZOFFSETFROM:-0400
TZOFFSETTO:-0500
TZNAME:EST
DTSTART:20261101T060000
END:STANDARD
BEGIN:DAYLIGHT
TZOFFSETFROM:-0500
TZOFFSETTO:-0400
TZNAME:EDT
DTSTART:20270314T070000
END:DAYLIGHT
BEGIN:STANDARD
TZOFFSETFROM:-0400
TZOFFSETTO:-0500
TZNAME:EST
DTSTART:20271107T060000
END:STANDARD
END:VTIMEZONE
BEGIN:VEVENT
DTSTART;VALUE=DATE:20260208
DTEND;VALUE=DATE:20260209
DTSTAMP:20260423T170804
CREATED:20260203T141215Z
LAST-MODIFIED:20260203T141215Z
UID:2925-1770508800-1770595199@westchesterhillscondo.com
SUMMARY:REC HALL FUNCTION
DESCRIPTION:
URL:https://westchesterhillscondo.com/event/rec-hall-function-43/
END:VEVENT
BEGIN:VEVENT
DTSTART;VALUE=DATE:20260201
DTEND;VALUE=DATE:20260202
DTSTAMP:20260423T170804
CREATED:20260122T181225Z
LAST-MODIFIED:20260122T181225Z
UID:2922-1769904000-1769990399@westchesterhillscondo.com
SUMMARY:REC HALL FUNCTION
DESCRIPTION:
URL:https://westchesterhillscondo.com/event/rec-hall-function-42/
END:VEVENT
BEGIN:VEVENT
DTSTART;VALUE=DATE:20260131
DTEND;VALUE=DATE:20260201
DTSTAMP:20260423T170804
CREATED:20260120T163033Z
LAST-MODIFIED:20260120T163033Z
UID:2920-1769817600-1769903999@westchesterhillscondo.com
SUMMARY:REC HALL FUNCTION
DESCRIPTION:
URL:https://westchesterhillscondo.com/event/rec-hall-function-41/
END:VEVENT
BEGIN:VEVENT
DTSTART;VALUE=DATE:20260125
DTEND;VALUE=DATE:20260126
DTSTAMP:20260423T170804
CREATED:20260116T163705Z
LAST-MODIFIED:20260116T163705Z
UID:2916-1769299200-1769385599@westchesterhillscondo.com
SUMMARY:REC HALL FUNCTION
DESCRIPTION:
URL:https://westchesterhillscondo.com/event/rec-hall-function-39/
END:VEVENT
BEGIN:VEVENT
DTSTART;VALUE=DATE:20260124
DTEND;VALUE=DATE:20260125
DTSTAMP:20260423T170804
CREATED:20260120T162704Z
LAST-MODIFIED:20260120T162704Z
UID:2918-1769212800-1769299199@westchesterhillscondo.com
SUMMARY:REC HALL FUNCTION
DESCRIPTION:
URL:https://westchesterhillscondo.com/event/rec-hall-function-40/
END:VEVENT
BEGIN:VEVENT
DTSTART;VALUE=DATE:20260117
DTEND;VALUE=DATE:20260118
DTSTAMP:20260423T170804
CREATED:20251204T152916Z
LAST-MODIFIED:20251204T152916Z
UID:2911-1768608000-1768694399@westchesterhillscondo.com
SUMMARY:REC HALL FUNCTION
DESCRIPTION:
URL:https://westchesterhillscondo.com/event/rec-hall-function-37/
END:VEVENT
BEGIN:VEVENT
DTSTART;VALUE=DATE:20251213
DTEND;VALUE=DATE:20251214
DTSTAMP:20260423T170804
CREATED:20251113T152736Z
LAST-MODIFIED:20251113T152736Z
UID:2906-1765584000-1765670399@westchesterhillscondo.com
SUMMARY:Rec Hall function
DESCRIPTION:
URL:https://westchesterhillscondo.com/event/rec-hall-function-35/
END:VEVENT
BEGIN:VEVENT
DTSTART;VALUE=DATE:20251206
DTEND;VALUE=DATE:20251207
DTSTAMP:20260423T170804
CREATED:20251202T144714Z
LAST-MODIFIED:20251202T144714Z
UID:2909-1764979200-1765065599@westchesterhillscondo.com
SUMMARY:REC HALL FUNCTION
DESCRIPTION:
URL:https://westchesterhillscondo.com/event/rec-hall-function-36/
END:VEVENT
BEGIN:VEVENT
DTSTART;VALUE=DATE:20251123
DTEND;VALUE=DATE:20251124
DTSTAMP:20260423T170804
CREATED:20251106T152459Z
LAST-MODIFIED:20251106T152459Z
UID:2902-1763856000-1763942399@westchesterhillscondo.com
SUMMARY:Rec Hall function
DESCRIPTION:
URL:https://westchesterhillscondo.com/event/rec-hall-function-33/
END:VEVENT
BEGIN:VEVENT
DTSTART;VALUE=DATE:20251122
DTEND;VALUE=DATE:20251123
DTSTAMP:20260423T170804
CREATED:20251105T154744Z
LAST-MODIFIED:20251105T154744Z
UID:2900-1763769600-1763855999@westchesterhillscondo.com
SUMMARY:Rec Hall function
DESCRIPTION:
URL:https://westchesterhillscondo.com/event/rec-hall-function-32/
END:VEVENT
BEGIN:VEVENT
DTSTART;VALUE=DATE:20251116
DTEND;VALUE=DATE:20251117
DTSTAMP:20260423T170804
CREATED:20251103T164925Z
LAST-MODIFIED:20251103T164925Z
UID:2893-1763251200-1763337599@westchesterhillscondo.com
SUMMARY:Rec Hall function
DESCRIPTION:
URL:https://westchesterhillscondo.com/event/rec-hall-function-29/
END:VEVENT
BEGIN:VEVENT
DTSTART;VALUE=DATE:20251115
DTEND;VALUE=DATE:20251116
DTSTAMP:20260423T170804
CREATED:20251110T161207Z
LAST-MODIFIED:20251110T161207Z
UID:2904-1763164800-1763251199@westchesterhillscondo.com
SUMMARY:Rec Hall function
DESCRIPTION:
URL:https://westchesterhillscondo.com/event/rec-hall-function-34/
END:VEVENT
BEGIN:VEVENT
DTSTART;VALUE=DATE:20251109
DTEND;VALUE=DATE:20251110
DTSTAMP:20260423T170804
CREATED:20251103T165020Z
LAST-MODIFIED:20251103T165020Z
UID:2895-1762646400-1762732799@westchesterhillscondo.com
SUMMARY:Rec Hall Function
DESCRIPTION:
URL:https://westchesterhillscondo.com/event/rec-hall-function-30/
END:VEVENT
BEGIN:VEVENT
DTSTART;VALUE=DATE:20251108
DTEND;VALUE=DATE:20251109
DTSTAMP:20260423T170804
CREATED:20251105T154708Z
LAST-MODIFIED:20251105T154708Z
UID:2898-1762560000-1762646399@westchesterhillscondo.com
SUMMARY:Rec Hall function
DESCRIPTION:
URL:https://westchesterhillscondo.com/event/rec-hall-function-31/
END:VEVENT
BEGIN:VEVENT
DTSTART;TZID=America/New_York:20251104T050000
DTEND;TZID=America/New_York:20251104T213000
DTSTAMP:20260423T170804
CREATED:20250107T173907Z
LAST-MODIFIED:20250107T173907Z
UID:2778-1762232400-1762291800@westchesterhillscondo.com
SUMMARY:General Election
DESCRIPTION:
URL:https://westchesterhillscondo.com/event/general-election/
END:VEVENT
BEGIN:VEVENT
DTSTART;VALUE=DATE:20251025
DTEND;VALUE=DATE:20251026
DTSTAMP:20260423T170804
CREATED:20251023T134552Z
LAST-MODIFIED:20251023T134552Z
UID:2891-1761350400-1761436799@westchesterhillscondo.com
SUMMARY:Rec Hall Function
DESCRIPTION:
URL:https://westchesterhillscondo.com/event/rec-hall-function-28/
END:VEVENT
BEGIN:VEVENT
DTSTART;VALUE=DATE:20251019
DTEND;VALUE=DATE:20251020
DTSTAMP:20260423T170804
CREATED:20251013T150702Z
LAST-MODIFIED:20251013T150702Z
UID:2888-1760832000-1760918399@westchesterhillscondo.com
SUMMARY:REC HALL Function
DESCRIPTION:
URL:https://westchesterhillscondo.com/event/rec-hall-function-26/
END:VEVENT
BEGIN:VEVENT
DTSTART;VALUE=DATE:20251018
DTEND;VALUE=DATE:20251019
DTSTAMP:20260423T170804
CREATED:20251007T152048Z
LAST-MODIFIED:20251007T152048Z
UID:2886-1760745600-1760831999@westchesterhillscondo.com
SUMMARY:Rec Hall function
DESCRIPTION:
URL:https://westchesterhillscondo.com/event/rec-hall-function-27/
END:VEVENT
BEGIN:VEVENT
DTSTART;VALUE=DATE:20251005
DTEND;VALUE=DATE:20251006
DTSTAMP:20260423T170804
CREATED:20250916T140949Z
LAST-MODIFIED:20250916T140949Z
UID:2874-1759622400-1759708799@westchesterhillscondo.com
SUMMARY:Rec Hall function
DESCRIPTION:
URL:https://westchesterhillscondo.com/event/rec-hall-function-22/
END:VEVENT
BEGIN:VEVENT
DTSTART;VALUE=DATE:20251004
DTEND;VALUE=DATE:20251005
DTSTAMP:20260423T170804
CREATED:20250919T160930Z
LAST-MODIFIED:20250919T160930Z
UID:2882-1759536000-1759622399@westchesterhillscondo.com
SUMMARY:Rec Hall Function
DESCRIPTION:
URL:https://westchesterhillscondo.com/event/rec-hall-function-25/
END:VEVENT
BEGIN:VEVENT
DTSTART;VALUE=DATE:20250927
DTEND;VALUE=DATE:20250928
DTSTAMP:20260423T170804
CREATED:20250919T160838Z
LAST-MODIFIED:20250919T160838Z
UID:2880-1758931200-1759017599@westchesterhillscondo.com
SUMMARY:Rec Hall Function
DESCRIPTION:
URL:https://westchesterhillscondo.com/event/rec-hall-function-24/
END:VEVENT
BEGIN:VEVENT
DTSTART;VALUE=DATE:20250920
DTEND;VALUE=DATE:20250921
DTSTAMP:20260423T170804
CREATED:20250919T160733Z
LAST-MODIFIED:20250919T160733Z
UID:2876-1758326400-1758412799@westchesterhillscondo.com
SUMMARY:Rec Hall Function
DESCRIPTION:
URL:https://westchesterhillscondo.com/event/rec-hall-function-23/
END:VEVENT
BEGIN:VEVENT
DTSTART;VALUE=DATE:20250913
DTEND;VALUE=DATE:20250914
DTSTAMP:20260423T170804
CREATED:20250908T175044Z
LAST-MODIFIED:20250908T175044Z
UID:2870-1757721600-1757807999@westchesterhillscondo.com
SUMMARY:Rec Hall Function
DESCRIPTION:
URL:https://westchesterhillscondo.com/event/rec-hall-function-20/
END:VEVENT
BEGIN:VEVENT
DTSTART;TZID=America/New_York:20250805T183000
DTEND;TZID=America/New_York:20250805T203000
DTSTAMP:20260423T170804
CREATED:20250731T154737Z
LAST-MODIFIED:20250731T154737Z
UID:2867-1754418600-1754425800@westchesterhillscondo.com
SUMMARY:BOM Meeting
DESCRIPTION:
URL:https://westchesterhillscondo.com/event/bom-meeting-2/
END:VEVENT
BEGIN:VEVENT
DTSTART;TZID=America/New_York:20250701T183000
DTEND;TZID=America/New_York:20250701T203000
DTSTAMP:20260423T170804
CREATED:20250625T143039Z
LAST-MODIFIED:20250625T143039Z
UID:2864-1751394600-1751401800@westchesterhillscondo.com
SUMMARY:Board of Managers Meeting
DESCRIPTION:
URL:https://westchesterhillscondo.com/event/board-of-managers-meeting-9/
END:VEVENT
BEGIN:VEVENT
DTSTART;VALUE=DATE:20250511
DTEND;VALUE=DATE:20250512
DTSTAMP:20260423T170804
CREATED:20250506T192219Z
LAST-MODIFIED:20250506T192219Z
UID:2837-1746921600-1747007999@westchesterhillscondo.com
SUMMARY:Rec Hall function
DESCRIPTION:
URL:https://westchesterhillscondo.com/event/rec-hall-function-21/
END:VEVENT
BEGIN:VEVENT
DTSTART;TZID=America/New_York:20250503T090000
DTEND;TZID=America/New_York:20250503T180000
DTSTAMP:20260423T170804
CREATED:20250402T131948Z
LAST-MODIFIED:20250402T131948Z
UID:2829-1746262800-1746295200@westchesterhillscondo.com
SUMMARY:Rec Hall Function
DESCRIPTION:
URL:https://westchesterhillscondo.com/event/rec-hall-function-18/
END:VEVENT
BEGIN:VEVENT
DTSTART;VALUE=DATE:20250427
DTEND;VALUE=DATE:20250428
DTSTAMP:20260423T170804
CREATED:20250414T143211Z
LAST-MODIFIED:20250414T143211Z
UID:2832-1745712000-1745798399@westchesterhillscondo.com
SUMMARY:Rec Hall Function
DESCRIPTION:
URL:https://westchesterhillscondo.com/event/rec-hall-function-19/
END:VEVENT
BEGIN:VEVENT
DTSTART;TZID=America/New_York:20250413T120000
DTEND;TZID=America/New_York:20250413T210000
DTSTAMP:20260423T170804
CREATED:20250311T191220Z
LAST-MODIFIED:20250311T191220Z
UID:2825-1744545600-1744578000@westchesterhillscondo.com
SUMMARY:Rec Hall Function
DESCRIPTION:
URL:https://westchesterhillscondo.com/event/rec-hall-function-17/
END:VEVENT
BEGIN:VEVENT
DTSTART;TZID=America/New_York:20250331T070000
DTEND;TZID=America/New_York:20250331T230000
DTSTAMP:20260423T170804
CREATED:20250220T145039Z
LAST-MODIFIED:20250220T145039Z
UID:2817-1743404400-1743462000@westchesterhillscondo.com
SUMMARY:Rec Hall Function
DESCRIPTION:
URL:https://westchesterhillscondo.com/event/rec-hall-function-15/
END:VEVENT
END:VCALENDAR